BEGIN:VCALENDAR
VERSION:2.0
PRODID:-//wp-events-plugin.com//7.2.3.1//EN
TZID:Europe/Madrid
X-WR-TIMEZONE:Europe/Madrid
BEGIN:VEVENT
UID:642@rayaworx.eu
DTSTART;TZID=Europe/Madrid:20260427T201500
DTEND;TZID=Europe/Madrid:20261207T214500
DTSTAMP:20260417T122603Z
URL:https://www.rayaworx.eu/calendario/night-shift-coworking
SUMMARY:Kooperation • Night Shift Online Coworking
DESCRIPTION:Abendliche Coworking-Session am Montagabend in geraden Kalender
 wochen • Unbedingt 20:15 einwählen\, damit die Session sicher stattfind
 et
ATTACH;FMTTYPE=image/jpeg:https://www.rayaworx.eu/wp-content/uploads/nigh-
 shift-online-coworking-doschu.jpg
CATEGORIES:Coworking,Deutsch,Kooperation
LOCATION:ONLINE\, Online\, Event\, Deutschland
X-APPLE-STRUCTURED-LOCATION;VALUE=URI;X-ADDRESS=Online\, Event\, Deutschlan
 d;X-APPLE-RADIUS=100;X-TITLE=ONLINE:geo:0,0
END:VEVENT
BEGIN:VTIMEZONE
TZID:Europe/Madrid
X-LIC-LOCATION:Europe/Madrid
BEGIN:DAYLIGHT
DTSTART:20260329T030000
TZOFFSETFROM:+0100
TZOFFSETTO:+0200
TZNAME:CEST
END:DAYLIGHT
BEGIN:STANDARD
DTSTART:20261025T020000
TZOFFSETFROM:+0200
TZOFFSETTO:+0100
TZNAME:CET
END:STANDARD
END:VTIMEZONE
END:VCALENDAR