BEGIN:VCALENDAR
VERSION:2.0
PRODID:-//wp-events-plugin.com//7.2.3.1//EN
TZID:Europe/Madrid
X-WR-TIMEZONE:Europe/Madrid
BEGIN:VEVENT
UID:622@rayaworx.eu
DTSTART;TZID=Europe/Madrid:20260422T180000
DTEND;TZID=Europe/Madrid:20261216T190000
DTSTAMP:20260408T175037Z
URL:https://www.rayaworx.eu/calendario/neues-machen-mit-ki
SUMMARY:NEUES MACHEN mit KI
DESCRIPTION:Austausch und Learnings rund um generative Künstliche Intellig
 enz mit Doris & Rainer
ATTACH;FMTTYPE=image/jpeg:https://www.rayaworx.eu/wp-content/uploads/cwx-r
 wx-Neues-Machen-mit-KI-termin-web.jpeg
CATEGORIES:COWOXU Mallorca,Deutsch,Relax &amp; Learn
LOCATION:Rayaworx Coworking\, Pl. Porta Murada 2\, Santanyí\, 07650\, Isla
 s Baleares\, Spanien
X-APPLE-STRUCTURED-LOCATION;VALUE=URI;X-ADDRESS=Pl. Porta Murada 2\, Santan
 yí\, 07650\, Islas Baleares\, Spanien;X-APPLE-RADIUS=100;X-TITLE=Rayaworx
  Coworking:geo:0,0
END:VEVENT
BEGIN:VTIMEZONE
TZID:Europe/Madrid
X-LIC-LOCATION:Europe/Madrid
BEGIN:DAYLIGHT
DTSTART:20260329T030000
TZOFFSETFROM:+0100
TZOFFSETTO:+0200
TZNAME:CEST
END:DAYLIGHT
BEGIN:STANDARD
DTSTART:20261025T020000
TZOFFSETFROM:+0200
TZOFFSETTO:+0100
TZNAME:CET
END:STANDARD
END:VTIMEZONE
END:VCALENDAR