BEGIN:VCALENDAR
VERSION:2.0
PRODID:-//wp-events-plugin.com//7.2.3.1//EN
TZID:Europe/Madrid
X-WR-TIMEZONE:Europe/Madrid
BEGIN:VEVENT
UID:641@rayaworx.eu
DTSTART;TZID=Europe/Madrid;VALUE=DATE:20260623
DTEND;TZID=Europe/Madrid;VALUE=DATE:20260625
DTSTAMP:20260410T090636Z
URL:https://www.rayaworx.eu/calendario/lernos-convention-satellit-mallorca
 -loscon26
SUMMARY:lernOS Convention • Satellit Mallorca #loscon26
DESCRIPTION:Die diesjährige 10. lernOS Convention geht den wirksamen Einsa
 tzgebieten von generativer KI nach: "AI at Work That Works" ...
ATTACH;FMTTYPE=image/jpeg:https://www.rayaworx.eu/wp-content/uploads/lernO
 S-Convention-2026-satellit-mallorca.jpg
CATEGORIES:Deutsch,Kooperation,Networking
LOCATION:Rayaworx Coworking\, Pl. Porta Murada 2\, Santanyí\, 07650\, Isla
 s Baleares\, Spanien
X-APPLE-STRUCTURED-LOCATION;VALUE=URI;X-ADDRESS=Pl. Porta Murada 2\, Santan
 yí\, 07650\, Islas Baleares\, Spanien;X-APPLE-RADIUS=100;X-TITLE=Rayaworx
  Coworking:geo:0,0
END:VEVENT
BEGIN:VTIMEZONE
TZID:Europe/Madrid
X-LIC-LOCATION:Europe/Madrid
BEGIN:DAYLIGHT
DTSTART:20260329T030000
TZOFFSETFROM:+0100
TZOFFSETTO:+0200
TZNAME:CEST
END:DAYLIGHT
END:VTIMEZONE
END:VCALENDAR